BEGIN:VCALENDAR
VERSION:2.0
PRODID:-//AudioTheme 2.0.2
BEGIN:VEVENT
UID:urn:uuid:8e670361-da53-41be-be01-0833d347e182
URL:http://apirateover50.com/gigs/first-friday-of-the-new-year/
DTSTART;VALUE=DATE:20220107
SUMMARY:First Friday of the New Year!
DESCRIPTION:Come on out to celebrate the first Friday of 2022! Live music from 6-9pm
LOCATION:Vernona Gourmet Market\, Restaurant & Lounge\, 40 South Boulevard of the Presidents\, Sarasota\, FL\, United States\, 34236
END:VEVENT
END:VCALENDAR
