BEGIN:VCALENDAR
VERSION:2.0
PRODID:-//AudioTheme 2.0.2
BEGIN:VEVENT
UID:urn:uuid:b359c622-c4f7-481c-ad12-6a5407e1ee74
URL:http://apirateover50.com/gigs/friday-after-work-party/
DTSTART;VALUE=DATE:20220114
SUMMARY:Friday after work party!
DESCRIPTION:TGIF party at Vernona Cafe! 6-9pm
LOCATION:Vernona Gourmet Market\, Restaurant & Lounge\, 40 South Boulevard of the Presidents\, Sarasota\, FL\, United States\, 34236
END:VEVENT
END:VCALENDAR
