BEGIN:VCALENDAR
VERSION:2.0
PRODID:-//AudioTheme 2.0.2
BEGIN:VEVENT
UID:urn:uuid:03f7cdbb-be18-4a4a-ac64-d0f4eee201d1
URL:http://apirateover50.com/gigs/friyay-happy-hour/
DTSTART;VALUE=DATE:20211119
SUMMARY:FriYAY Happy Hour
DESCRIPTION:Start your weekend off at Vernona Gourmet! 6-9pm
LOCATION:Vernona Gourmet Market\, Restaurant & Lounge\, 40 South Boulevard of the Presidents\, Sarasota\, FL\, United States\, 34236
END:VEVENT
END:VCALENDAR
