BEGIN:VCALENDAR
VERSION:2.0
PRODID:-//AudioTheme 2.0.2
BEGIN:VEVENT
UID:urn:uuid:b63bb4fb-e7ee-4558-85df-80c312ab2e56
URL:http://apirateover50.com/gigs/monday-tara-preserve/
DTSTART;VALUE=DATE:20211122
SUMMARY:Monday @ Tara Preserve
DESCRIPTION:Monday Funday at the Preserve @ Tara! Join the fun 5-8pm...start your week off with some live music!
LOCATION:The Preserve Golf Club\, 7310 Tara Preserve Lane\, Bradenton\, FL\, United States\, 34203
END:VEVENT
END:VCALENDAR
