BEGIN:VCALENDAR
VERSION:2.0
PRODID:-//AudioTheme 2.0.2
BEGIN:VEVENT
UID:urn:uuid:4c052f52-a12f-476d-abf8-ce7bd28214aa
URL:http://apirateover50.com/gigs/private-party-8/
DTSTART;VALUE=DATE:20211223
SUMMARY:Private Party
END:VEVENT
END:VCALENDAR
