BEGIN:VCALENDAR
VERSION:2.0
PRODID:-//AudioTheme 2.0.2
BEGIN:VEVENT
UID:urn:uuid:50895b43-7c23-4786-895e-d9927cb1c6c1
URL:http://apirateover50.com/gigs/stone-cliff-16/
DTSTART;VALUE=DATE:20201115
SUMMARY:Stone Cliff
DESCRIPTION:Sunday Funday @ Stone Cliff 3-6pm
LOCATION:Stone Cliff Winery\, 600 Star Brewery Drive\, Dubuque\, IA\, United States\, 52001
END:VEVENT
END:VCALENDAR
