BEGIN:VCALENDAR
VERSION:2.0
PRODID:-//AudioTheme 2.0.2
BEGIN:VEVENT
UID:urn:uuid:402911e7-91b4-498c-b159-05963fb13a61
URL:http://apirateover50.com/gigs/stone-cliff-winery-8/
DTSTART;VALUE=DATE:20210110
SUMMARY:Stone Cliff Winery
DESCRIPTION:Sunday Funday at Stone Cliff 3-6pm
LOCATION:Stone Cliff Winery\, 600 Star Brewery Drive\, Dubuque\, IA\, United States\, 52001
END:VEVENT
END:VCALENDAR
