BEGIN:VCALENDAR
VERSION:2.0
PRODID:-//AudioTheme 2.0.2
BEGIN:VEVENT
UID:urn:uuid:0b163302-3cd2-41ae-94a0-934ab021212c
URL:http://apirateover50.com/gigs/sundown-mountain-lodge-2/
DTSTART;VALUE=DATE:20210109
SUMMARY:Sundown Mountain Lodge
DESCRIPTION:Saturday afternoon @ Sunday 3-7pm
LOCATION:Sundown Mountain Resort\, 16991 Asbury Road\, Dubuque\, IA\, United States\, 52002
END:VEVENT
END:VCALENDAR
